BEGIN:VCALENDAR
PRODID:-//kirchenweb.ch gmbh//veranstaltungsausgabe v2.0//DE
VERSION:2.0
METHOD:PUBLISH
BEGIN:VEVENT
DTSTART:20261029T140000Z
DTEND:20261029T150000Z
LOCATION:Pflegezentrum Dandelion\, Sperrstrasse 100\, 4057 Basel
TRANSP:OPAQUE
SEQUENCE:0
UID:220133-veranstaltung@erk-bs.ch
DTSTAMP:20251204T090353Z
DESCRIPTION:Kontakt: Katharina Autenrieth-Fischlewitz\n\nWeitere Infos:
  https://www.erk-bs.ch/veranstaltung/220133
SUMMARY:Gottesdienst
PRIORITY:5
X-MICROSOFT-CDO-IMPORTANCE:1
CLASS:PUBLIC
END:VEVENT
END:VCALENDAR
