BEGIN:VCALENDAR
PRODID:-//kirchenweb.ch gmbh//veranstaltungsausgabe v2.0//DE
VERSION:2.0
METHOD:PUBLISH
BEGIN:VEVENT
DTSTART:20260502T080000Z
DTEND:20260502T090000Z
LOCATION:Gellertkirche\, Emanuel Büchel-Str. 40\, 4052 Basel
TRANSP:OPAQUE
SEQUENCE:0
UID:220176-veranstaltung@erk-bs.ch
DTSTAMP:20260127T084331Z
DESCRIPTION:Gebet für Israel und den Nahen Osten in der Gellertkirche\,
  Raum Petrus\nJeden 1. Samstag im Monat (ausser in den Schulferien)\n\nAn
  den übrigen Samstagen ist Mahnwache Gebet im Münster\nWinter 11-12 Uhr
  / Sommer 10-11 Uhr\n\nKontakt: Daniel Dummermuth\n\nWeitere Infos:
  https://www.erk-bs.ch/veranstaltung/220176
SUMMARY:Gebet für Israel und den Nahen Osten
PRIORITY:5
X-MICROSOFT-CDO-IMPORTANCE:1
CLASS:PUBLIC
END:VEVENT
END:VCALENDAR
