BEGIN:VCALENDAR
PRODID:-//kirchenweb.ch gmbh//veranstaltungsausgabe v2.0//DE
VERSION:2.0
METHOD:PUBLISH
BEGIN:VEVENT
DTSTART:20261111T110000Z
DTEND:20261111T111500Z
LOCATION:Johanneskirche\, Mülhauserstrasse 145\, 4056 Basel
TRANSP:OPAQUE
SEQUENCE:0
UID:220193-veranstaltung@erk-bs.ch
DTSTAMP:20251205T102417Z
DESCRIPTION:In der Mitte des Tages einen Augenblick innehalten\, zur Ruhe
  kommen und sich auf Gott ausrichten: Herzlich willkommen zum
  Mittagsgebet.\n\nKontakt: Pfarrerin Simone Wolf\n\nWeitere Infos:
  https://www.erk-bs.ch/veranstaltung/220193
SUMMARY:Mittagsgebet
PRIORITY:5
X-MICROSOFT-CDO-IMPORTANCE:1
CLASS:PUBLIC
END:VEVENT
END:VCALENDAR
