BEGIN:VCALENDAR
PRODID:-//kirchenweb.ch gmbh//veranstaltungsausgabe v2.0//DE
VERSION:2.0
METHOD:PUBLISH
BEGIN:VEVENT
DTSTART:20261216T170000Z
DTEND:20261216T190000Z
LOCATION:Hauskirche Zentrum Johannes\, \,
TRANSP:OPAQUE
SEQUENCE:0
UID:220226-veranstaltung@erk-bs.ch
DTSTAMP:20251205T115138Z
DESCRIPTION:Wenn ein geliebter Mensch stirbt oder ein anderer
  schmerzlicher Verlust das Leben erschüttert\, gerät vieles aus dem
  Gleichgewicht. Nichts scheint mehr so zu sein\, wie es einmal war.\n\nDer
  Trauertreff bietet Ihnen in einem geschützten Rahmen die Möglichkeit\,
  sich mit anderen Betroffenen auszutauschen\, Erfahrungen und Gefühle zu
  teilen sowie Unterstützung und Informationen für den Alltag zu
  erhalten. Zu Beginn servieren wir eine warme Suppe mit Brot – eine
  erste Gelegenheit\, in freundlicher Atmosphäre Gemeinschaft zu erleben.
 \n\nFühlen Sie sich angesprochen oder möchten Sie mehr erfahren?\nDann
  sind Sie herzlich eingeladen\, vorbeizukommen. Um Anmeldung wird gebeten.
 \n\nLeitung: Claudia Schulthess (Trauerbegleiterin\, Sozialdiakonin) und
  Moni Bitzi (Trauerbegleiterin\, Pflegefachfrau)\n\nKosten:
  Unkostenbeitrag Fr.10.-\n\nAnmeldung bei: Claudia Schulthess
  (claudia.schulthess@erk-bs.ch / 061 205 32 82). Auch bei Fragen können
  Sie sich gerne an sie wenden.\n\nKontakt: claudia.schulthess@erk-bs.ch\n
 \nWeitere Infos: https://www.erk-bs.ch/veranstaltung/220226
SUMMARY:Trauertreff
PRIORITY:5
X-MICROSOFT-CDO-IMPORTANCE:1
CLASS:PUBLIC
END:VEVENT
END:VCALENDAR
