BEGIN:VCALENDAR
PRODID:-//kirchenweb.ch gmbh//veranstaltungsausgabe v2.0//DE
VERSION:2.0
METHOD:PUBLISH
BEGIN:VEVENT
DTSTART:20260515T100000Z
DTEND:20260515T103000Z
LOCATION:Im Chor der Theodorskirche\, Theodorskirchplatz 5\, 4058 Basel
TRANSP:OPAQUE
SEQUENCE:0
UID:220242-veranstaltung@erk-bs.ch
DTSTAMP:20260316T134250Z
DESCRIPTION:Wir singen und beten gemeinsam ein Mal im Monat Psalmen\,
  Hymnen und kleine liturgische Texte unter der Anleitung von Matthieu
  Romanens. \n\nEine halbe Stunde für Herz\, Stimme und Atem im
  wunderbaren Chorgestühl der Theodorskirche.\n\nDaten:\nFreitag\, 15. Mai
  2026\nFreitag\, 19. Juni 2026\n\n\nKontakt: Dr. Nicoleta Paraschivescu\n
 \nWeitere Infos: https://www.erk-bs.ch/veranstaltung/220242
SUMMARY:Gesungene Gebete - Tue meine Lippen auf
PRIORITY:5
X-MICROSOFT-CDO-IMPORTANCE:1
CLASS:PUBLIC
END:VEVENT
END:VCALENDAR
