BEGIN:VCALENDAR
PRODID:-//kirchenweb.ch gmbh//veranstaltungsausgabe v2.0//DE
VERSION:2.0
METHOD:PUBLISH
BEGIN:VEVENT
DTSTART:20260807T083000Z
DTEND:20260807T093000Z
LOCATION:Marienhaus\, Horburgstrasse 54\, 4057 Basel
TRANSP:OPAQUE
SEQUENCE:0
UID:220263-veranstaltung@erk-bs.ch
DTSTAMP:20251208T134812Z
DESCRIPTION:Kontakt: Sozialdiakonin Claudia Schulthess\n\nWeitere Infos:
  https://www.erk-bs.ch/veranstaltung/220263
SUMMARY:Gottesdienst
PRIORITY:5
X-MICROSOFT-CDO-IMPORTANCE:1
CLASS:PUBLIC
END:VEVENT
END:VCALENDAR
