BEGIN:VCALENDAR
PRODID:-//kirchenweb.ch gmbh//veranstaltungsausgabe v2.0//DE
VERSION:2.0
METHOD:PUBLISH
BEGIN:VEVENT
DTSTART:20260517T170000Z
DTEND:20260517T180000Z
LOCATION:Kornfeldkirche\, Kornfeldstr. 51\, 4125 Riehen
TRANSP:OPAQUE
SEQUENCE:0
UID:220274-veranstaltung@erk-bs.ch
DTSTAMP:20251209T084800Z
DESCRIPTION:Kontakt: sarah.meister@erk-bs.ch\n\nWeitere Infos:
  https://www.erk-bs.ch/veranstaltung/220274
SUMMARY:Taizé Abendgebet
PRIORITY:5
X-MICROSOFT-CDO-IMPORTANCE:1
CLASS:PUBLIC
END:VEVENT
END:VCALENDAR
