BEGIN:VCALENDAR
PRODID:-//kirchenweb.ch gmbh//veranstaltungsausgabe v2.0//DE
VERSION:2.0
METHOD:PUBLISH
BEGIN:VEVENT
DTSTART:20260920T170000Z
DTEND:20260920T180000Z
LOCATION:Kirche Bettingen\, Brohegasse 3\, 4126 Bettingen
TRANSP:OPAQUE
SEQUENCE:0
UID:220277-veranstaltung@erk-bs.ch
DTSTAMP:20251209T085146Z
DESCRIPTION:Kontakt: marlene.kuchenbaecker@erk-bs.ch\n\nWeitere Infos:
  https://www.erk-bs.ch/veranstaltung/220277
SUMMARY:Taizé Abendgebet
PRIORITY:5
X-MICROSOFT-CDO-IMPORTANCE:1
CLASS:PUBLIC
END:VEVENT
END:VCALENDAR
