BEGIN:VCALENDAR
PRODID:-//kirchenweb.ch gmbh//veranstaltungsausgabe v2.0//DE
VERSION:2.0
METHOD:PUBLISH
BEGIN:VEVENT
DTSTART:20260911T040000Z
DTEND:20260911T050000Z
LOCATION:Dorfkirche\, Kirchplatz\, 4125 Riehen
TRANSP:OPAQUE
SEQUENCE:0
UID:220345-veranstaltung@erk-bs.ch
DTSTAMP:20251209T100406Z
DESCRIPTION:Kontakt: DHo\n\nWeitere Infos:
  https://www.erk-bs.ch/veranstaltung/220345
SUMMARY:Morgengebet
PRIORITY:5
X-MICROSOFT-CDO-IMPORTANCE:1
CLASS:PUBLIC
END:VEVENT
END:VCALENDAR
