BEGIN:VCALENDAR
PRODID:-//kirchenweb.ch gmbh//veranstaltungsausgabe v2.0//DE
VERSION:2.0
METHOD:PUBLISH
BEGIN:VEVENT
DTSTART:20261204T050000Z
DTEND:20261204T060000Z
LOCATION:Dorfkirche\, Kirchplatz\, 4125 Riehen
TRANSP:OPAQUE
SEQUENCE:0
UID:220357-veranstaltung@erk-bs.ch
DTSTAMP:20251209T100409Z
DESCRIPTION:Kontakt: DHo\n\nWeitere Infos:
  https://www.erk-bs.ch/veranstaltung/220357
SUMMARY:Morgengebet
PRIORITY:5
X-MICROSOFT-CDO-IMPORTANCE:1
CLASS:PUBLIC
END:VEVENT
END:VCALENDAR
