BEGIN:VCALENDAR
PRODID:-//kirchenweb.ch gmbh//veranstaltungsausgabe v2.0//DE
VERSION:2.0
METHOD:PUBLISH
BEGIN:VEVENT
DTSTART:20260520T123000Z
DTEND:20260520T134500Z
LOCATION:Alterssiedlung der Münstergemeinde \, Engelgasse 61\, 4052 Basel
TRANSP:OPAQUE
SEQUENCE:0
UID:220412-veranstaltung@erk-bs.ch
DTSTAMP:20260324T122339Z
DESCRIPTION:Therese Kämpfer\, ehemalige Pflegefachfrau und engagiertes
  Mitglied unserer Gemeinde\, berichtet zum Thema Palliativ Care. Was
  bedeutet «Palliativ»\, was bedeutet «Kurativ»? Es besteht ausreichend
  Zeit für Fragen.\nAustausch bei Kaffee und Kuchen\, keine Anmeldung
  nötig.\n\nKontakt: Yvonne Pereira\n\nWeitere Infos:
  https://www.erk-bs.ch/veranstaltung/220412
SUMMARY:Seniorennachmittag Engelgasse
PRIORITY:5
X-MICROSOFT-CDO-IMPORTANCE:1
CLASS:PUBLIC
END:VEVENT
END:VCALENDAR
