BEGIN:VCALENDAR
PRODID:-//kirchenweb.ch gmbh//veranstaltungsausgabe v2.0//DE
VERSION:2.0
METHOD:PUBLISH
BEGIN:VEVENT
DTSTART:20260426T080000Z
DTEND:20260426T090000Z
LOCATION:Kornfeldkirche\, Kornfeldstr. 51\, 4125 Riehen
TRANSP:OPAQUE
SEQUENCE:0
UID:220557-veranstaltung@erk-bs.ch
DTSTAMP:20251212T134158Z
DESCRIPTION:Kontakt: Paul Schalck\n\nWeitere Infos:
  https://www.erk-bs.ch/veranstaltung/220557
SUMMARY:Gottesdienst
PRIORITY:5
X-MICROSOFT-CDO-IMPORTANCE:1
CLASS:PUBLIC
END:VEVENT
END:VCALENDAR
