BEGIN:VCALENDAR
PRODID:-//kirchenweb.ch gmbh//veranstaltungsausgabe v2.0//DE
VERSION:2.0
METHOD:PUBLISH
BEGIN:VEVENT
DTSTART:20261114T171500Z
DTEND:20261114T181500Z
LOCATION:Bischofshof\, Rittergasse 1\, 4051 Basel
TRANSP:OPAQUE
SEQUENCE:0
UID:220571-veranstaltung@erk-bs.ch
DTSTAMP:20260226T170128Z
DESCRIPTION:Mit dem TrauerCafé schaffen wir Raum für Menschen in
  Trauersituationen. Hier darf man mit seiner Trauer sein. Hier darf sich
  Ihre Trauer ausdrücken. Man darf erzählen\, sich mitteilen\, zuhören\,
  schweigen\, sich Zeit lassen.\n\nTrauerCafé – ein Anlass für
  Trauernde\, jeweils nach Bach um 5 um 18.15 Uhr in der Hofstube des
  Bischofshof\, Rittergasse 1\, 4051 Basel.\n\nEs heissen Sie Pfrn.
  Caroline Schröder Field und Dr. Christoph Ramstein (Arzt) herzlich
  willkommen.\n\nWeitere Termine: \n\n\nKontakt: Pfrn. Caroline Schröder
  Field\n\nWeitere Infos: https://www.erk-bs.ch/veranstaltung/220571
SUMMARY:Trauercafé
PRIORITY:5
X-MICROSOFT-CDO-IMPORTANCE:1
CLASS:PUBLIC
END:VEVENT
END:VCALENDAR
