BEGIN:VCALENDAR
PRODID:-//kirchenweb.ch gmbh//veranstaltungsausgabe v2.0//DE
VERSION:2.0
METHOD:PUBLISH
BEGIN:VEVENT
DTSTART:20260420T173000Z
DTEND:20260420T190000Z
LOCATION:Gemeindezentrum Johannes\, \,
TRANSP:OPAQUE
SEQUENCE:0
UID:220611-veranstaltung@erk-bs.ch
DTSTAMP:20260324T083254Z
DESCRIPTION:Oh ihr galatischen Dummköpfe! Wer hat euch mit dem bösen
  Blick geschlagen?\n\nDer Brief\, den Paulus in die Provinz Galatien
  schickt\, ist\, gelinde gesagt\, unhöflich\, aber berühmt. 
 \nUnglücklicherweise weiss man von den Verhältnissen in den jungen
  Gemeinden im Innern der heutigen Türkei - womöglich gab es eine
  christliche Gruppe in Ankara? - so gut wie nichts. Dafür lernt man die
  emotionale Seite des Apostels kennen. An der Stelle 3\, 1 redet er die
  Leser mit Dummköpfe an. Was brachte ihn derart auf die Palme? In der
  Reformation bekam der Brief grosse Bedeutung\, Luther liebte ihn. Aber er
  zeitigte auch unglückliche Folgen\, denn man verstand  ihn als
  antisemitische Polemik. Daneben findet sein Verfasser Spitzensätze wie
  zur Freiheit hat uns Christus befreit.\n\nDer Brief wird an 5 Abenden
  besprochen: Käthy Ehrensperger\, zuletzt Professorin in Berlin\, ist mit
  der New Perspective on Paul vertraut; Hans-Adam Ritter hat jahrelang mit
  Gruppen ausgesuchte Bibelteile gelesen. Unsere Lesegruppe ist erfahren\,
  freut sich aber auf neue Mitglieder\n\nOrt und Zeit: Zentrum Johannes\,
  Kannenfeldplatz\, Eingang Metzerstrasse (Tram 1\, Bus 36)\n2.\, 16.\, 23.
  März\, 13.\, 20. April\, 19-.30 - 21.00.\nGratis\, Anmeldung nicht
  zwingend\, aber erwünscht (Sekretariat: 061 205 32 80\,
  stephan.lichtenhahn@erk-bs.ch).\n\nKontakt: Esther Janine Zehntner\n
 \nWeitere Infos: https://www.erk-bs.ch/veranstaltung/220611
SUMMARY:Bibellesekreis
PRIORITY:5
X-MICROSOFT-CDO-IMPORTANCE:1
CLASS:PUBLIC
END:VEVENT
END:VCALENDAR
