BEGIN:VCALENDAR
PRODID:-//kirchenweb.ch gmbh//veranstaltungsausgabe v2.0//DE
VERSION:2.0
METHOD:PUBLISH
BEGIN:VEVENT
DTSTART:20260512T100000Z
DTEND:20260512T110000Z
LOCATION:AHA Friedensgasse 59\, 4056 Basel\, \,
TRANSP:OPAQUE
SEQUENCE:0
UID:220637-veranstaltung@erk-bs.ch
DTSTAMP:20251217T080542Z
DESCRIPTION:Kontakt: Les « habitués » sont inscrits d’office et sont
  priés de se signaler en cas d’absence.\nCeux qui souhaitent se
  rajouter peuvent s’annoncer au + tard le jeudi précédent\, avant 11h
 \nau secrétariat  061 270 96 66\nou par mail :
  agnes.kauffmann@erk-bs.ch\n\n\nWeitere Infos:
  https://www.erk-bs.ch/veranstaltung/220637
SUMMARY:Midi Contact
PRIORITY:5
X-MICROSOFT-CDO-IMPORTANCE:1
CLASS:PUBLIC
END:VEVENT
END:VCALENDAR
