BEGIN:VCALENDAR
PRODID:-//kirchenweb.ch gmbh//veranstaltungsausgabe v2.0//DE
VERSION:2.0
METHOD:PUBLISH
BEGIN:VEVENT
DTSTART:20260628T083000Z
DTEND:20260628T093000Z
LOCATION:Kirche St. Chrischona\, St. Chrischona\, 4126 Bettingen
TRANSP:OPAQUE
SEQUENCE:0
UID:220661-veranstaltung@erk-bs.ch
DTSTAMP:20251217T084352Z
DESCRIPTION:Start Pilgerweg: 9.30 Uhr Kirche Bettingen\nWir treffen wir
  und mit den Pilgernden aus Riehen und gehen gemeinsam weiter zur Kirche
  St. Chrischona.\n\n\nKontakt: Pfarrerin Sabine Graf\nPfarrer Armin Graf\n
 \nWeitere Infos: https://www.erk-bs.ch/veranstaltung/220661
SUMMARY:Pilgerweg nach St. Chrischona und Gottesdienst
PRIORITY:5
X-MICROSOFT-CDO-IMPORTANCE:1
CLASS:PUBLIC
END:VEVENT
END:VCALENDAR
