BEGIN:VCALENDAR
PRODID:-//kirchenweb.ch gmbh//veranstaltungsausgabe v2.0//DE
VERSION:2.0
METHOD:PUBLISH
BEGIN:VEVENT
DTSTART:20260428T170000Z
DTEND:20260428T190000Z
LOCATION:Peterskirche\, Peterskirchplatz 7\, 4051 Basel
TRANSP:OPAQUE
SEQUENCE:0
UID:220671-veranstaltung@erk-bs.ch
DTSTAMP:20251217T094933Z
DESCRIPTION:Kontakt: Martin Bopp \n\n\nWeitere Infos:
  https://www.erk-bs.ch/veranstaltung/220671
SUMMARY:Talk im Turm
PRIORITY:5
X-MICROSOFT-CDO-IMPORTANCE:1
CLASS:PUBLIC
END:VEVENT
END:VCALENDAR
