BEGIN:VCALENDAR
PRODID:-//kirchenweb.ch gmbh//veranstaltungsausgabe v2.0//DE
VERSION:2.0
METHOD:PUBLISH
BEGIN:VEVENT
DTSTART:20260427T174500Z
DTEND:20260427T193000Z
LOCATION:Sacré-Coeur\, Feierabendstrasse 68\,
TRANSP:OPAQUE
SEQUENCE:0
UID:220675-veranstaltung@erk-bs.ch
DTSTAMP:20251217T095915Z
DESCRIPTION:Kontakt: Thème. La Terre Promise Conférencier: Prof. Thomas
  Römer\n\nWeitere Infos: https://www.erk-bs.ch/veranstaltung/220675
SUMMARY:SCRIPTURA
PRIORITY:5
X-MICROSOFT-CDO-IMPORTANCE:1
CLASS:PUBLIC
END:VEVENT
END:VCALENDAR
