BEGIN:VCALENDAR
PRODID:-//kirchenweb.ch gmbh//veranstaltungsausgabe v2.0//DE
VERSION:2.0
METHOD:PUBLISH
BEGIN:VEVENT
DTSTART:20261021T123000Z
DTEND:20261021T143000Z
LOCATION:Zentrum Johannes\, \,
TRANSP:OPAQUE
SEQUENCE:0
UID:220813-veranstaltung@erk-bs.ch
DTSTAMP:20260210T091706Z
DESCRIPTION:Haben Sie Lust\, bei einer Tasse Kaffee oder Tee und etwas
  Gebäck gemütlich zusammenzusitzen und mit anderen Menschen ins
  Gespräch zu kommen? \nDann sind Sie im Kaffi.plus genau richtig! Hier
  ist jede und jeder willkommen – ganz ungezwungen und ohne
  Verpflichtung.\nAls „Plus“ gibt es ab und zu kleine Extras: spannende
  Gäste\, interessante Impulse\, Erzählrunden zu verschiedenen Themen und
  vieles mehr.\nSchauen Sie vorbei – wir freuen uns auf Sie!\n\nKontakt:
  Claudia Schulthess\n\nWeitere Infos:
  https://www.erk-bs.ch/veranstaltung/220813
SUMMARY:Kaffi.plus Zentrum Johannes
PRIORITY:5
X-MICROSOFT-CDO-IMPORTANCE:1
CLASS:PUBLIC
END:VEVENT
END:VCALENDAR
