BEGIN:VCALENDAR
PRODID:-//kirchenweb.ch gmbh//veranstaltungsausgabe v2.0//DE
VERSION:2.0
METHOD:PUBLISH
BEGIN:VEVENT
DTSTART:20260601T040000Z
DTEND:20260601T050000Z
LOCATION:Pfarrkapelle\, \,
TRANSP:OPAQUE
SEQUENCE:0
UID:220893-veranstaltung@erk-bs.ch
DTSTAMP:20251218T094655Z
DESCRIPTION:Kontakt: rahel.probst@erk-bs.ch\n\nWeitere Infos:
  https://www.erk-bs.ch/veranstaltung/220893
SUMMARY:Morgengebet
PRIORITY:5
X-MICROSOFT-CDO-IMPORTANCE:1
CLASS:PUBLIC
END:VEVENT
END:VCALENDAR
