BEGIN:VCALENDAR
PRODID:-//kirchenweb.ch gmbh//veranstaltungsausgabe v2.0//DE
VERSION:2.0
METHOD:PUBLISH
BEGIN:VEVENT
DTSTART:20261123T080000Z
DTEND:20261123T100000Z
LOCATION:Gemeindehaus Stephanus\, Furkastrasse 12\, 4054 Basel
TRANSP:OPAQUE
SEQUENCE:0
UID:220924-veranstaltung@erk-bs.ch
DTSTAMP:20251218T100529Z
DESCRIPTION:Herzliche Einladung zum Kerzenziehen\nLicht und Wärme selbst
  gestalten\n\nWenn die Tage kürzer werden\, laden wir Sie und euch
  herzlich ein\, in der besonderen Atmosphäre unseres Kirchgemeindehauses
  (oder: unserer Kirche) zur Ruhe zu kommen und eigenes Licht zu
  erschaffen.\n\nDas Kerzenziehen ist eine wunderbare Tradition für Jung
  und Alt. Aus reinem Bienenwachs oder farbigem Paraffin entstehen Schicht
  für Schicht individuelle Kunstwerke – perfekt als persönliches
  Weihnachtsgeschenk oder für die gemütliche Stimmung zu Hause.\n
 \nKontakt: Peter Küng\n\nWeitere Infos:
  https://www.erk-bs.ch/veranstaltung/220924
SUMMARY:Kerzenziehen im Stephanus
PRIORITY:5
X-MICROSOFT-CDO-IMPORTANCE:1
CLASS:PUBLIC
END:VEVENT
END:VCALENDAR
