BEGIN:VCALENDAR
PRODID:-//kirchenweb.ch gmbh//veranstaltungsausgabe v2.0//DE
VERSION:2.0
METHOD:PUBLISH
BEGIN:VEVENT
DTSTART:20260703T060000Z
DTEND:20260703T120000Z
LOCATION:Dorfkirche\, Kirchplatz\, 4125 Riehen
TRANSP:OPAQUE
SEQUENCE:0
UID:221155-veranstaltung@erk-bs.ch
DTSTAMP:20251218T164038Z
DESCRIPTION:Kontakt: Pfarrer Dan Holder\n\nWeitere Infos:
  https://www.erk-bs.ch/veranstaltung/221155
SUMMARY:Singwoche/Chorprojekt
PRIORITY:5
X-MICROSOFT-CDO-IMPORTANCE:1
CLASS:PUBLIC
END:VEVENT
END:VCALENDAR
