BEGIN:VCALENDAR
PRODID:-//kirchenweb.ch gmbh//veranstaltungsausgabe v2.0//DE
VERSION:2.0
METHOD:PUBLISH
BEGIN:VEVENT
DTSTART:20260428T073000Z
DTEND:20260428T083000Z
LOCATION:Thomaskirche\, Hegenheimerstr. 229\, 4055 Basel
TRANSP:OPAQUE
SEQUENCE:0
UID:221185-veranstaltung@erk-bs.ch
DTSTAMP:20251219T083830Z
DESCRIPTION:Eine Oase mitten im Alltag...\n\nAuf ihr Dürstenden alle\,
  kommet her zum Wasser\, und die ihr kein Brot habt\, kommet! Jesaja 55\,1
 \n\nSind Sie auf der Suche nach Erquickung und Erfrischung aus dem Wort
  Gottes?\nDann sind Sie in unserer Bibelgruppe herzlich willkommen. Durch
  gemeinsames Bibellesen\, Hören auf Gott\, Austausch und Gebet lassen wir
  uns herausfordern\, ermutigen und stärken für unseren Alltag.\n\nWir
  sind Frauen unterschiedlichen Alters und in ganz verschiedenen
  Lebenssituationen. Im Gespräch erleben wir unsere Verschieden-artigkeit
  als Bereicherung.\nPersönliche Erfahrungen bringen Leben in die Texte
  der Bibel und helfen uns\, Gott auch in den kleinen Dingen zu finden!\n
 \nWir schliessen mit einer Kaffeerunde ab.\n\nKontakt: Vreni Tanner\nT 061
  301 34 11\n\nWeitere Infos: https://www.erk-bs.ch/veranstaltung/221185
SUMMARY:Frauenbibelgruppe
PRIORITY:5
X-MICROSOFT-CDO-IMPORTANCE:1
CLASS:PUBLIC
END:VEVENT
END:VCALENDAR
