BEGIN:VCALENDAR
PRODID:-//kirchenweb.ch gmbh//veranstaltungsausgabe v2.0//DE
VERSION:2.0
METHOD:PUBLISH
BEGIN:VEVENT
DTSTART:20260506T073000Z
DTEND:20260506T083000Z
LOCATION:Familie Steinmetz\, Ahornstr. 19\, 4055 Basel
TRANSP:OPAQUE
SEQUENCE:0
UID:221196-veranstaltung@erk-bs.ch
DTSTAMP:20251219T084007Z
DESCRIPTION:Wir treffen uns\, um gemeinsam über Alltagsthemen (für
  Eltern von Teenagern) auszutauschen\, Lebensberichte zu hören oder
  praktische Tipps zu erhalten - ein kunterbuntes Programm. \nMütter
  jeglicher Herkunft sind bei uns willkommen!\n\n\n\nKontakt: Colette
  Steinmetz\nT 077 449 67 02\n\nWeitere Infos:
  https://www.erk-bs.ch/veranstaltung/221196
SUMMARY:Mütter im Austausch
PRIORITY:5
X-MICROSOFT-CDO-IMPORTANCE:1
CLASS:PUBLIC
END:VEVENT
END:VCALENDAR
