BEGIN:VCALENDAR
PRODID:-//kirchenweb.ch gmbh//veranstaltungsausgabe v2.0//DE
VERSION:2.0
METHOD:PUBLISH
BEGIN:VEVENT
DTSTART:20260508T100000Z
DTEND:20260508T110000Z
LOCATION:Thomaskirche\, Hegenheimerstr. 229\, 4055 Basel
TRANSP:OPAQUE
SEQUENCE:0
UID:221206-veranstaltung@erk-bs.ch
DTSTAMP:20251219T084126Z
DESCRIPTION:14-täglich treffen sich Seniorinnen und Senioren jeweils an
  einem Freitag zu einem gemeinsamen Mittagessen.\n\n\nKontakt: Daniel
  Häsler\nT 061 386 92 44\n\nWeitere Infos:
  https://www.erk-bs.ch/veranstaltung/221206
SUMMARY:Mittagsclub
PRIORITY:5
X-MICROSOFT-CDO-IMPORTANCE:1
CLASS:PUBLIC
END:VEVENT
END:VCALENDAR
