BEGIN:VCALENDAR
PRODID:-//kirchenweb.ch gmbh//veranstaltungsausgabe v2.0//DE
VERSION:2.0
METHOD:PUBLISH
BEGIN:VEVENT
DTSTART:20260827T100000Z
DTEND:20260827T113000Z
LOCATION:Meierhof\, Kirchplatz 7\, 4125 Riehen
TRANSP:OPAQUE
SEQUENCE:0
UID:221270-veranstaltung@erk-bs.ch
DTSTAMP:20251220T093104Z
DESCRIPTION:Herzliche Einladung Donnerstags um 12.00Uhr (ausser
  Schulferien) für ein feines Mittagessen im Meierhof.\nKosten:18.-Franken
  für ein 4 Gänge Menü mit Mineral und Kaffee\n.\nWir geniessen das mal
  zusammen\, teilen Geschichten\, Singen und lachen gemeinsam.\nEin
  Mittag\, der verbindet und tröstet.\n\n\nKontakt: Kristina Molnar\n
 \nWeitere Infos: https://www.erk-bs.ch/veranstaltung/221270
SUMMARY:Mittagsclub Meierhof
PRIORITY:5
X-MICROSOFT-CDO-IMPORTANCE:1
CLASS:PUBLIC
END:VEVENT
END:VCALENDAR
