BEGIN:VCALENDAR
PRODID:-//kirchenweb.ch gmbh//veranstaltungsausgabe v2.0//DE
VERSION:2.0
METHOD:PUBLISH
BEGIN:VEVENT
DTSTART:20260304T112000Z
DTEND:20260304T130000Z
LOCATION:Quartiertreffpunkt LoLa\, Lothringerstrasse 63\, 4056 Basel
TRANSP:OPAQUE
SEQUENCE:0
UID:221960-veranstaltung@erk-bs.ch
DTSTAMP:20260106T142705Z
DESCRIPTION:In der Mitte der Woche und in der Mitte des Tages kommen wir
  im gemütlichen Rahmen zusammen\, um uns zu stärken.\n\nWir geniessen
  Gemeinschaft\, Austausch und ein einfaches\, vegetarisches Mittagessen um
  12:20 Uhr im Quartiertreffpunkt LoLa an der Lothringerstrasse 63.\n\nWer
  mag ist davor herzlich zu einem kurzen Mittagsgebet um 12 Uhr in der
  Johanneskirche eingeladen.\n\nKontakt: Veronika Henschel\n\nWeitere
  Infos: https://www.erk-bs.ch/veranstaltung/221960
SUMMARY:Mittagstisch
PRIORITY:5
X-MICROSOFT-CDO-IMPORTANCE:1
CLASS:PUBLIC
END:VEVENT
END:VCALENDAR
