BEGIN:VCALENDAR
PRODID:-//kirchenweb.ch gmbh//veranstaltungsausgabe v2.0//DE
VERSION:2.0
METHOD:PUBLISH
BEGIN:VEVENT
DTSTART:20260822T080000Z
DTEND:20260822T143000Z
LOCATION:Tituskirche\, Im tiefen Boden 75\, 4059 Basel
TRANSP:OPAQUE
SEQUENCE:0
UID:221974-veranstaltung@erk-bs.ch
DTSTAMP:20260106T161701Z
DESCRIPTION:Einführungstag in das Kontemplative Gebet. Auch als Refresher
  für alle\, die "wieder einsteigen" möchten. In die Stille kommen\, in
  die Gegenwart kommen\, Schritte hin zum Herzensgebet. Mit Übungen\,
  Impulsen und Austausch.\nFür das Mittagessen bitte eigenen Lunch
  (Fingerfood) mitbringen. Getränke sind vorhanden.\n\nKontakt:
  katrin.schulze@erk-bs.ch\n\nWeitere Infos:
  https://www.erk-bs.ch/veranstaltung/221974
SUMMARY:OFFLine - Stille-Tag
PRIORITY:5
X-MICROSOFT-CDO-IMPORTANCE:1
CLASS:PUBLIC
END:VEVENT
END:VCALENDAR
