BEGIN:VCALENDAR
PRODID:-//kirchenweb.ch gmbh//veranstaltungsausgabe v2.0//DE
VERSION:2.0
METHOD:PUBLISH
BEGIN:VEVENT
DTSTART:20260827T173000Z
DTEND:20260827T183000Z
LOCATION:Heiliggeistkirche / Taufkapelle\, Thiersteineralle 51\, 4053
  Basel
TRANSP:OPAQUE
SEQUENCE:0
UID:221975-veranstaltung@erk-bs.ch
DTSTAMP:20260106T162205Z
DESCRIPTION:18:30 - 19:30 Abendmeditation\, anschliessend thematischer
  Impuls und Austausch.\n(Einführung in die Meditationstechnik am
  Stille-Tag 22.08.26 10:00 - 16:300)\n\nKontakt: Katrin Schulze\n\nWeitere
  Infos: https://www.erk-bs.ch/veranstaltung/221975
SUMMARY:OFFLine Einführung Kontemplation
PRIORITY:5
X-MICROSOFT-CDO-IMPORTANCE:1
CLASS:PUBLIC
END:VEVENT
END:VCALENDAR
