BEGIN:VCALENDAR
PRODID:-//kirchenweb.ch gmbh//veranstaltungsausgabe v2.0//DE
VERSION:2.0
METHOD:PUBLISH
BEGIN:VEVENT
DTSTART:20260513T073000Z
DTEND:20260513T090000Z
LOCATION:Kirche Bettingen\, Brohegasse 3\, 4126 Bettingen
TRANSP:OPAQUE
SEQUENCE:0
UID:221983-veranstaltung@erk-bs.ch
DTSTAMP:20260106T170941Z
DESCRIPTION:HERZLICHE EINLADUNG zum FRAUENGESPRÄCH AM MORGEN \n\nWir
  möchten zusammenkommen\, Erfahrungen austauschen\, der Bibel begegnen
  und dabei wertvolle Entdeckungen für unser Leben machen. \nDazu
  begleitet uns das Büchlein DER HEILIGE GEIST\nEine Vorkenntnis oder
  Anmeldung ist nicht nötig.\n\nKontakt:  Caroline Schachinger\n\nWeitere
  Infos: https://www.erk-bs.ch/veranstaltung/221983
SUMMARY:Frauengespräch am Morgen
PRIORITY:5
X-MICROSOFT-CDO-IMPORTANCE:1
CLASS:PUBLIC
END:VEVENT
END:VCALENDAR
