BEGIN:VCALENDAR
PRODID:-//kirchenweb.ch gmbh//veranstaltungsausgabe v2.0//DE
VERSION:2.0
METHOD:PUBLISH
BEGIN:VEVENT
DTSTART:20260612T170000Z
DTEND:20260612T184500Z
LOCATION:Gemeindehaus Stephanus\, Furkastrasse 12\, 4054 Basel
TRANSP:OPAQUE
SEQUENCE:0
UID:221997-veranstaltung@erk-bs.ch
DTSTAMP:20260120T160734Z
DESCRIPTION:Mit Pfrn. Adelheid Vontobel\, Kreistanzleiterin. Ein Angebot
  für alle\, die mit Leib und Seele\, mit Herzen\, Händen und Füssen
  beten wollen.\n\nWir tanzen ruhige und bewegte Tänze zu klassischer
  Musik und zu Kirchenliedern\, aber auch zu Volksmusik aus aller Welt.\n
 \nKontakt: Adelheid Vontobel\, Tel 061 301 78 30\n\nWeitere Infos:
  https://www.erk-bs.ch/veranstaltung/221997
SUMMARY:Kreistänze
PRIORITY:5
X-MICROSOFT-CDO-IMPORTANCE:1
CLASS:PUBLIC
END:VEVENT
END:VCALENDAR
