BEGIN:VCALENDAR
PRODID:-//kirchenweb.ch gmbh//veranstaltungsausgabe v2.0//DE
VERSION:2.0
METHOD:PUBLISH
BEGIN:VEVENT
DTSTART:20260417T170000Z
DTEND:20260417T200000Z
LOCATION:Gemeindehaus Stephanus\, Furkastrasse 12\, 4054 Basel
TRANSP:OPAQUE
SEQUENCE:0
UID:222006-veranstaltung@erk-bs.ch
DTSTAMP:20260414T075948Z
DESCRIPTION:Die WunderBar im Stephanus\, der Treffpunkt zum Auftakt des
  Wochenendes für Jung und Alt.\n\nHeute: SpielBar - Brettspiele und mehr:
  Spielend ins Wochenende\n\nKontakt: Robel Akalu\n\nWeitere Infos:
  https://www.erk-bs.ch/veranstaltung/222006
SUMMARY:WunderBar - Heute: SpielBar Abgesagt
PRIORITY:5
X-MICROSOFT-CDO-IMPORTANCE:1
CLASS:PUBLIC
END:VEVENT
END:VCALENDAR
