BEGIN:VCALENDAR
PRODID:-//kirchenweb.ch gmbh//veranstaltungsausgabe v2.0//DE
VERSION:2.0
METHOD:PUBLISH
BEGIN:VEVENT
DTSTART:20260907T163000Z
DTEND:20260907T183000Z
LOCATION:Zentrum Johannes\, \,
TRANSP:OPAQUE
SEQUENCE:0
UID:222008-veranstaltung@erk-bs.ch
DTSTAMP:20260206T161037Z
DESCRIPTION:Dankbarkeit ist für das menschliche Glück von entscheidender
  Bedeutung. Doch manchmal fällt es in der Alltagsroutine schwer\, dankbar
  zu sein. Dankbarkeit kann man lernen. \nIm Vortrag werden folgende Fragen
  behandelt: Was bedeutet Dankbarkeit? Für was können wir dankbar sein?
  Wozu ist Dankbarkeit gut? Können wir unter allen Umständen dankbar
  sein? Wie können wir Dankbarkeit lernen?\n\nKontakt: Claudia Schulthess
 \n\nWeitere Infos: https://www.erk-bs.ch/veranstaltung/222008
SUMMARY:endlich leben: Vom Glück dankbar zu sein
PRIORITY:5
X-MICROSOFT-CDO-IMPORTANCE:1
CLASS:PUBLIC
END:VEVENT
END:VCALENDAR
