BEGIN:VCALENDAR
PRODID:-//kirchenweb.ch gmbh//veranstaltungsausgabe v2.0//DE
VERSION:2.0
METHOD:PUBLISH
BEGIN:VEVENT
DTSTART:20260914T163000Z
DTEND:20260914T183000Z
LOCATION:Zentrum Johannes\, \,
TRANSP:OPAQUE
SEQUENCE:0
UID:222009-veranstaltung@erk-bs.ch
DTSTAMP:20260206T161053Z
DESCRIPTION:Jeder Mensch wird hin und wieder mit zwischenmenschlichen
  Problemen und Kränkungen konfrontiert. Wenn Kränkungen nicht bewältigt
  werden\, können sie langfristig zu gesundheitlichen Problemen führen. 
 \nDas Verzeihen wird als eine Bewältigungsmöglichkeit vorgestellt\, um
  negative Gefühle\, Gedanken und Handlungsimpulse bewusst loszulassen. Es
  werden dabei sowohl Chancen als auch\nHerausforderungen und Risiken des
  Verzeihens diskutiert. \n\n\nKontakt: Claudia Schulthess\n\nWeitere
  Infos: https://www.erk-bs.ch/veranstaltung/222009
SUMMARY:endlich leben: Vergangenes loslassen und Neues zulassen
PRIORITY:5
X-MICROSOFT-CDO-IMPORTANCE:1
CLASS:PUBLIC
END:VEVENT
END:VCALENDAR
