BEGIN:VCALENDAR
PRODID:-//kirchenweb.ch gmbh//veranstaltungsausgabe v2.0//DE
VERSION:2.0
METHOD:PUBLISH
BEGIN:VEVENT
DTSTART:20260921T163000Z
DTEND:20260921T183000Z
LOCATION:Zentrum Johannes\, \,
TRANSP:OPAQUE
SEQUENCE:0
UID:222010-veranstaltung@erk-bs.ch
DTSTAMP:20260206T161104Z
DESCRIPTION:Ist es erstrebenswert uralt zu werden? Nimmt Lebensqualität
  mit dem fortschreitendem hohem Alter automatisch ab?\nDiesen Fragen geht
  Ludwig Hasler in seinem Vortrag nach. Er fordert ein lebendiges Alter\,
  geprägt von echten Beziehungen\, aktiver Beteiligung und Beitrag zur
  Gemeinschaft statt Egozentrik. Das Alter bietet die Möglichkeit neue
  Wege zu gehen\, Erfahrungen weiterzugeben und Spuren zu hinterlassen. 
 \n«Schlimm ist nicht das kurze Leben\, sondern ein verpasstes»\, so
  Ludwig Hasler.\n\nKontakt: Claudia Schulthess\n\nWeitere Infos:
  https://www.erk-bs.ch/veranstaltung/222010
SUMMARY:endlich leben: Langlebigkeit versus sinnvolles Leben?
PRIORITY:5
X-MICROSOFT-CDO-IMPORTANCE:1
CLASS:PUBLIC
END:VEVENT
END:VCALENDAR
