BEGIN:VCALENDAR
PRODID:-//kirchenweb.ch gmbh//veranstaltungsausgabe v2.0//DE
VERSION:2.0
METHOD:PUBLISH
BEGIN:VEVENT
DTSTART:20260929T163000Z
DTEND:20260929T183000Z
LOCATION:Zentrum Johannes\, \,
TRANSP:OPAQUE
SEQUENCE:0
UID:222011-veranstaltung@erk-bs.ch
DTSTAMP:20260206T161115Z
DESCRIPTION:«Hauptsache gesund!» so beglücken wir einander zuweilen an
  Geburtstagen oder an Neujahr. \n\nGesundheit ist wirklich etwas
  Kostbares. Darum wünschen wir es uns und einander. Aber ist es wirklich
  die Hauptsache? Hängt Lebensqualität ganz von der Gesundheit ab? Gerade
  im Blick auf das Alter ist ein differenzierteres Verständ-nis von
  Gesundheit und Lebensqualität gefragt\, das damit ernst macht\, dass man
  auch mit Einschränkungen gut leben kann\, dass man ‘gesund’ mit
  Krankheit um-gehen kann und dass sich zuweilen gerade durch Grenzen
  hindurch Sinn erfahren lässt.\n\nKontakt: Claudia Schulthess\n\nWeitere
  Infos: https://www.erk-bs.ch/veranstaltung/222011
SUMMARY:endlich leben: Sinn und Lebensqualität – mehr als Gesundheit
PRIORITY:5
X-MICROSOFT-CDO-IMPORTANCE:1
CLASS:PUBLIC
END:VEVENT
END:VCALENDAR
