BEGIN:VCALENDAR
PRODID:-//kirchenweb.ch gmbh//veranstaltungsausgabe v2.0//DE
VERSION:2.0
METHOD:PUBLISH
BEGIN:VEVENT
DTSTART;VALUE=DATE:20260425
DTEND;VALUE=DATE:20260426
LOCATION:extern\, \,
TRANSP:OPAQUE
SEQUENCE:0
UID:222429-veranstaltung@erk-bs.ch
DTSTAMP:20260109T170745Z
DESCRIPTION:Kontakt: Pfr. Dominik Reifler\n\nWeitere Infos:
  https://www.erk-bs.ch/veranstaltung/222429
SUMMARY:Alphalive - Weekend
PRIORITY:5
X-MICROSOFT-CDO-IMPORTANCE:1
CLASS:PUBLIC
END:VEVENT
END:VCALENDAR
