BEGIN:VCALENDAR
PRODID:-//kirchenweb.ch gmbh//veranstaltungsausgabe v2.0//DE
VERSION:2.0
METHOD:PUBLISH
BEGIN:VEVENT
DTSTART:20260422T160000Z
DTEND:20260422T180000Z
LOCATION:Zentrum Johannes / Hauskirche\, \,
TRANSP:OPAQUE
SEQUENCE:0
UID:222526-veranstaltung@erk-bs.ch
DTSTAMP:20260113T100754Z
DESCRIPTION:"Klugheit: Kopf oder Herz?"\nHerzliche Einladung zum Dialog
  mit Christof Laumont (Schulleiter). \n\nKontakt: simone.wolf@erk-bs.ch\n
 \nWeitere Infos: https://www.erk-bs.ch/veranstaltung/222526
SUMMARY:Tisch und Wort
PRIORITY:5
X-MICROSOFT-CDO-IMPORTANCE:1
CLASS:PUBLIC
END:VEVENT
END:VCALENDAR
