BEGIN:VCALENDAR
PRODID:-//kirchenweb.ch gmbh//veranstaltungsausgabe v2.0//DE
VERSION:2.0
METHOD:PUBLISH
BEGIN:VEVENT
DTSTART:20260505T154500Z
DTEND:20260505T171500Z
LOCATION:Gellertkirche\, Christoph Merian-Platz 5\, 4052 Basel
TRANSP:OPAQUE
SEQUENCE:0
UID:222541-veranstaltung@erk-bs.ch
DTSTAMP:20260113T102829Z
DESCRIPTION:Kontakt: Pfr. Dominik Reifler\n\nWeitere Infos:
  https://www.erk-bs.ch/veranstaltung/222541
SUMMARY:Konfirmanden Unterricht 1&2
PRIORITY:5
X-MICROSOFT-CDO-IMPORTANCE:1
CLASS:PUBLIC
END:VEVENT
END:VCALENDAR
