BEGIN:VCALENDAR
PRODID:-//kirchenweb.ch gmbh//veranstaltungsausgabe v2.0//DE
VERSION:2.0
METHOD:PUBLISH
BEGIN:VEVENT
DTSTART:20260624T170000Z
DTEND:20260624T210000Z
LOCATION:Gemeindehaus Stephanus\, Furkastrasse 12\, 4054 Basel
TRANSP:OPAQUE
SEQUENCE:0
UID:222682-veranstaltung@erk-bs.ch
DTSTAMP:20260116T095031Z
DESCRIPTION:WunderBar im Stephanus eine Anlassreihe für Jung und Alt \n
 \nHeute: Grill- & FussballBar 	\nAb 19 Uhr heizen wir vor dem Stephanus
  den Grill an\, ab 21 Uhr zeigen wir das\nWM-Spiel Schweiz gegen Kanada.\n
 \nKontakt: robel.akalu@erk-bs.ch\n\nWeitere Infos:
  https://www.erk-bs.ch/veranstaltung/222682
SUMMARY:WunderBar - Heute: Grill- & FussballBar (ausnahmsweise an einem
  Mittwoch!)
PRIORITY:5
X-MICROSOFT-CDO-IMPORTANCE:1
CLASS:PUBLIC
END:VEVENT
END:VCALENDAR
