BEGIN:VCALENDAR
PRODID:-//kirchenweb.ch gmbh//veranstaltungsausgabe v2.0//DE
VERSION:2.0
METHOD:PUBLISH
BEGIN:VEVENT
DTSTART:20260610T170000Z
DTEND:20260610T193000Z
LOCATION:Gemeindehaus Stephanus\, Furkastrasse 12\, 4054 Basel
TRANSP:OPAQUE
SEQUENCE:0
UID:222743-veranstaltung@erk-bs.ch
DTSTAMP:20260114T153700Z
DESCRIPTION:Pier12\, der Jugendtreff im Stephanus: Zweimal im Monat\,
  zwischen 18.30 und 21.30 sind alle Jugendlichen von 13 bis 18
  willkommen\, Gemeinschaft zu geniessen\, sich in verschiedenen Games zu
  messen und sich kulinarisch verwöhnen zu lassen. Immer am 2. und 4.
  Mittwoch im Monat. Man sieht sich dort?\n\nKontakt: Norina Görlitzer\n
 \nWeitere Infos: https://www.erk-bs.ch/veranstaltung/222743
SUMMARY:Pier12
PRIORITY:5
X-MICROSOFT-CDO-IMPORTANCE:1
CLASS:PUBLIC
END:VEVENT
END:VCALENDAR
