BEGIN:VCALENDAR
PRODID:-//kirchenweb.ch gmbh//veranstaltungsausgabe v2.0//DE
VERSION:2.0
METHOD:PUBLISH
BEGIN:VEVENT
DTSTART:20260429T173000Z
DTEND:20260429T190000Z
LOCATION:Gellertkirche\, Emanuel Büchel-Str. 40\, 4052 Basel
TRANSP:OPAQUE
SEQUENCE:0
UID:222836-veranstaltung@erk-bs.ch
DTSTAMP:20260115T135843Z
DESCRIPTION:Für alle\, die Gottes Wort entdecken und besser verstehen
  möchten.\nAnmeldung an bibelentdecken@gellertkirche.ch \n\nKontakt: Pat
  und Judith Langloh\n\nWeitere Infos:
  https://www.erk-bs.ch/veranstaltung/222836
SUMMARY:Die Bibel entdecken
PRIORITY:5
X-MICROSOFT-CDO-IMPORTANCE:1
CLASS:PUBLIC
END:VEVENT
END:VCALENDAR
