BEGIN:VCALENDAR
PRODID:-//kirchenweb.ch gmbh//veranstaltungsausgabe v2.0//DE
VERSION:2.0
METHOD:PUBLISH
BEGIN:VEVENT
DTSTART:20260506T130000Z
DTEND:20260506T140000Z
LOCATION:Pavillon Dorfkirche Kleinhüningen\, Dorfstrasse 39\, 4057 Basel
TRANSP:OPAQUE
SEQUENCE:0
UID:222881-veranstaltung@erk-bs.ch
DTSTAMP:20260116T124544Z
DESCRIPTION:Lustiges Lotto-Spielen.\n\n\n\nKontakt: Iris Näf\, 061 631 18
  87\n\nWeitere Infos: https://www.erk-bs.ch/veranstaltung/222881
SUMMARY:Seniorennachmittag
PRIORITY:5
X-MICROSOFT-CDO-IMPORTANCE:1
CLASS:PUBLIC
END:VEVENT
END:VCALENDAR
