BEGIN:VCALENDAR
PRODID:-//kirchenweb.ch gmbh//veranstaltungsausgabe v2.0//DE
VERSION:2.0
METHOD:PUBLISH
BEGIN:VEVENT
DTSTART:20260610T120000Z
DTEND:20260610T130000Z
LOCATION:Treffpunkt Tramstation Kleinhüningen\, \,
TRANSP:OPAQUE
SEQUENCE:0
UID:222882-veranstaltung@erk-bs.ch
DTSTAMP:20260116T124756Z
DESCRIPTION:Ausflug in die Grün 80 mit Zvieri.\n\n\n\nKontakt: Iris
  Näf\, 061 631 18 87\n\nWeitere Infos:
  https://www.erk-bs.ch/veranstaltung/222882
SUMMARY:Seniorennachmittag - Ausflug
PRIORITY:5
X-MICROSOFT-CDO-IMPORTANCE:1
CLASS:PUBLIC
END:VEVENT
END:VCALENDAR
