BEGIN:VCALENDAR
PRODID:-//kirchenweb.ch gmbh//veranstaltungsausgabe v2.0//DE
VERSION:2.0
METHOD:PUBLISH
BEGIN:VEVENT
DTSTART:20260426T093000Z
DTEND:20260426T113000Z
LOCATION:St-Léonard\, \,
TRANSP:OPAQUE
SEQUENCE:0
UID:223002-veranstaltung@erk-bs.ch
DTSTAMP:20260421T093454Z
DESCRIPTION:Kontakt: Lors de ce culte\, Suzanne Lehmann recevra la
  consécration d’ancienne d’Eglise selon la tradition de l’Eglise
  presbytérienne du Cameroun. Elle participera à la liturgie de ce culte.
 \n\n\nWeitere Infos: https://www.erk-bs.ch/veranstaltung/223002
SUMMARY:Culte africain
PRIORITY:5
X-MICROSOFT-CDO-IMPORTANCE:1
CLASS:PUBLIC
END:VEVENT
END:VCALENDAR
