BEGIN:VCALENDAR
PRODID:-//kirchenweb.ch gmbh//veranstaltungsausgabe v2.0//DE
VERSION:2.0
METHOD:PUBLISH
BEGIN:VEVENT
DTSTART:20260524T080000Z
DTEND:20260524T090000Z
LOCATION:St-Léonard\, \,
TRANSP:OPAQUE
SEQUENCE:0
UID:223003-veranstaltung@erk-bs.ch
DTSTAMP:20260421T101249Z
DESCRIPTION:Kontakt: Le culte de Pentecôte sera célébré de manière
  interculturelle par Evelyne Zinsstag et Suzanne Schild et sera
  accompagné par la chorale africaine. Suzanne Lehmann\, qui a reçu
  durant le culte africain le 26 avril 2026 la consécration d’ancienne
  d’Eglise (selon la tradition de l’Eglise presbytérienne du
  Cameroun)\, participera à la liturgie de ce culte.\n\nWeitere Infos:
  https://www.erk-bs.ch/veranstaltung/223003
SUMMARY:Culte interculturel Pentecôte
PRIORITY:5
X-MICROSOFT-CDO-IMPORTANCE:1
CLASS:PUBLIC
END:VEVENT
END:VCALENDAR
