BEGIN:VCALENDAR
PRODID:-//kirchenweb.ch gmbh//veranstaltungsausgabe v2.0//DE
VERSION:2.0
METHOD:PUBLISH
BEGIN:VEVENT
DTSTART:20260310T180000Z
DTEND:20260310T200000Z
LOCATION:Zentrum Johannes\, Mülhauserstrasse 145\, 4056 Basel
TRANSP:OPAQUE
SEQUENCE:0
UID:223023-veranstaltung@erk-bs.ch
DTSTAMP:20260203T142012Z
DESCRIPTION:Singfreudige Menschen sind herzlich eingeladen\, an vier
  offenen Abenden im Zentrum Johannes verschiedenste Lieder zu singen. Mehr
  Informationen https://www.erk-bs.ch/kg/baselwest/bericht/6985.\n
 \nKontakt: Veronika Henschel\n\nWeitere Infos:
  https://www.erk-bs.ch/veranstaltung/223023
SUMMARY:EinKlang - Singen in der Passionszeit
PRIORITY:5
X-MICROSOFT-CDO-IMPORTANCE:1
CLASS:PUBLIC
END:VEVENT
END:VCALENDAR
