BEGIN:VCALENDAR
PRODID:-//kirchenweb.ch gmbh//veranstaltungsausgabe v2.0//DE
VERSION:2.0
METHOD:PUBLISH
BEGIN:VEVENT
DTSTART:20260520T180000Z
DTEND:20260520T190000Z
LOCATION:Thomaskirche\, Hegenheimerstr. 229\, 4055 Basel
TRANSP:OPAQUE
SEQUENCE:0
UID:223112-veranstaltung@erk-bs.ch
DTSTAMP:20260122T101248Z
DESCRIPTION:Gemeinsam wollen wir vor Gott kommen und für unser Quartier
  beten. Wir freuen uns über alle\, die mitbeten - ob einmalig oder
  regelmässig.\n\nKontakt: Esther Müller\n\nWeitere Infos:
  https://www.erk-bs.ch/veranstaltung/223112
SUMMARY:Quartiergebet
PRIORITY:5
X-MICROSOFT-CDO-IMPORTANCE:1
CLASS:PUBLIC
END:VEVENT
END:VCALENDAR
