BEGIN:VCALENDAR
PRODID:-//kirchenweb.ch gmbh//veranstaltungsausgabe v2.0//DE
VERSION:2.0
METHOD:PUBLISH
BEGIN:VEVENT
DTSTART:20260312T173000Z
DTEND:20260312T183000Z
LOCATION:Gellertkirche\, Christoph Merian-Platz 5\, 4052 Basel
TRANSP:OPAQUE
SEQUENCE:0
UID:223150-veranstaltung@erk-bs.ch
DTSTAMP:20260205T164338Z
DESCRIPTION:Wir treffen uns zum Gebet für unsere Gemeinde\, unsere Stadt
  und unser Land. Komm\, bete mit - alle sind willkommen!\n\nKontakt: Pfr.
  Matthias Pfaehler\n\nWeitere Infos:
  https://www.erk-bs.ch/veranstaltung/223150
SUMMARY:Gemeindegebet
PRIORITY:5
X-MICROSOFT-CDO-IMPORTANCE:1
CLASS:PUBLIC
END:VEVENT
END:VCALENDAR
