BEGIN:VCALENDAR
PRODID:-//kirchenweb.ch gmbh//veranstaltungsausgabe v2.0//DE
VERSION:2.0
METHOD:PUBLISH
BEGIN:VEVENT
DTSTART:20260426T070000Z
DTEND:20260426T074500Z
LOCATION:Dorfkirche Riehen\, Kirchplatz\, 4125 Riehen
TRANSP:OPAQUE
SEQUENCE:0
UID:223238-veranstaltung@erk-bs.ch
DTSTAMP:20260128T074216Z
DESCRIPTION:Mit unserem Organisten Sergio Flores üben wir mehrstimmige
  Choräle aus dem Kirchengesangbuch oder auch andere Lieder ein\, die dann
  im Gottesdienst gesungen werden. Alle\, die gerne mehrstimmig singen
  möchten\, sind herzlich eingeladen um 9.00 Uhr in die Dorfkirche zu
  kommen.  \n\nWir üben heute das Lied 729 'Wenn ich O Schöpfer' ein.  \n
 \nKontakt: Sergio Flores\, Organist\n\nWeitere Infos:
  https://www.erk-bs.ch/veranstaltung/223238
SUMMARY:Choralsingen
PRIORITY:5
X-MICROSOFT-CDO-IMPORTANCE:1
CLASS:PUBLIC
END:VEVENT
END:VCALENDAR
